BEGIN:VCALENDAR
VERSION:2.0
PRODID:-//VFW - ECPv4.6.23//NONSGML v1.0//EN
CALSCALE:GREGORIAN
METHOD:PUBLISH
X-WR-CALNAME:VFW
X-ORIGINAL-URL:http://vfwpost9511.org
X-WR-CALDESC:Events for VFW
BEGIN:VEVENT
DTSTART;TZID=America/Chicago:20190406T163000
DTEND;TZID=America/Chicago:20190406T200000
DTSTAMP:20260420T005702
CREATED:20181002T162828Z
LAST-MODIFIED:20181002T162828Z
UID:808-1554568200-1554580800@vfwpost9511.org
SUMMARY:Saturday Night Steak Feed
DESCRIPTION:Stop in at the VFW Saturday to enjoy a great steak dinner.  Admission is $12/meal.  We can’t wait to see you there! \n
URL:http://vfwpost9511.org/event/saturday-night-steak-feed-2-2-2-2-2/
LOCATION:VFW\, 2787 Erbe Road\, Blue Mounds\, WI\, 53517\, United States
ATTACH;FMTTYPE=image/jpeg:http://vfwpost9511.org/wp-content/uploads/2017/11/tuscany-2803301_1920.jpg
END:VEVENT
END:VCALENDAR