BEGIN:VCALENDAR
VERSION:2.0
PRODID:-//VFW - ECPv4.6.23//NONSGML v1.0//EN
CALSCALE:GREGORIAN
METHOD:PUBLISH
X-WR-CALNAME:VFW
X-ORIGINAL-URL:http://vfwpost9511.org
X-WR-CALDESC:Events for VFW
BEGIN:VEVENT
DTSTART;TZID=America/Chicago:20181204T190000
DTEND;TZID=America/Chicago:20181204T203000
DTSTAMP:20260420T061344
CREATED:20181002T163357Z
LAST-MODIFIED:20181002T163357Z
UID:814-1543950000-1543955400@vfwpost9511.org
SUMMARY:VFW Post 9511 Monthly Meeting
DESCRIPTION:Monthly meeting for VFW Post 9511 members. \n
URL:http://vfwpost9511.org/event/vfw-post-9511-monthly-meeting-2-2/
LOCATION:VFW\, 2787 Erbe Road\, Blue Mounds\, WI\, 53517\, United States
END:VEVENT
END:VCALENDAR